BEGIN:VCALENDAR
VERSION:2.0
PRODID:-//wp-events-plugin.com//7.2.3.1//EN
BEGIN:VEVENT
UID:10@wangsel.education.gov.bt
DTSTART;VALUE=DATE:20250528
DTEND;VALUE=DATE:20250529
DTSTAMP:20250626T043556Z
URL:https://wangsel.education.gov.bt/events/menstrual-hygiene-day-28th-may
 -2025/
SUMMARY:Menstrual Hygiene Day
DESCRIPTION:\nTo observe Menstrual Hygiene Day on 28th May\, an awareness p
 rogram was organized during morning assembly. The participation of male st
 aff and boy health captains in delivering the message played a key role in
  breaking the silence and stigma surrounding menstruation\, encouraging gr
 eater understanding \, openness and support for menstrual health and hygie
 ne for all.\n\n\nLet’s continue to promote a world where periods are not
  a taboo but a normal part of life.\n
ATTACH;FMTTYPE=image/jpeg:https://wangsel.education.gov.bt/wp-content/uplo
 ads/2025/06/Menstruation-day.jpg
END:VEVENT
END:VCALENDAR